BEGIN:VCALENDAR
VERSION:2.0
PRODID:-//Texan Club de France - ECPv6.0.9//NONSGML v1.0//EN
CALSCALE:GREGORIAN
METHOD:PUBLISH
X-WR-CALNAME:Texan Club de France
X-ORIGINAL-URL:https://texanclubdefrance.fr
X-WR-CALDESC:évènements pour Texan Club de France
REFRESH-INTERVAL;VALUE=DURATION:PT1H
X-Robots-Tag:noindex
X-PUBLISHED-TTL:PT1H
BEGIN:VTIMEZONE
TZID:Europe/Paris
BEGIN:DAYLIGHT
TZOFFSETFROM:+0100
TZOFFSETTO:+0200
TZNAME:CEST
DTSTART:20260329T010000
END:DAYLIGHT
BEGIN:STANDARD
TZOFFSETFROM:+0200
TZOFFSETTO:+0100
TZNAME:CET
DTSTART:20261025T010000
END:STANDARD
END:VTIMEZONE
BEGIN:VEVENT
DTSTART;VALUE=DATE:20260109
DTEND;VALUE=DATE:20260112
DTSTAMP:20260422T000804
CREATED:20250103T133851Z
LAST-MODIFIED:20250103T133903Z
UID:1403-1767916800-1768175999@texanclubdefrance.fr
SUMMARY:Championnat de France à Andrézieux-Bouthéon 2025
DESCRIPTION:Notre championnat pour les pigeons nés en 2025 se déroulera à Andrézieux-Bouthéon du 9 au 11 janvier 2026. \n 
URL:https://texanclubdefrance.fr/event/championnat-de-france-a-andrezieux-boutheon/
LOCATION:Andrézieux-Bouthéon
END:VEVENT
END:VCALENDAR